{"text_format":"1","workbook":"xlsx","n_sheets":3,"sheets":["Arbeitsblatt","Multiplikation G400","Quelle dynamisch"],"not_rendered":{"charts":0,"images":2,"macros":1,"external_links":0,"defined_names":0,"comments":0,"pivot_tables":0},"unopened":[],"bounds":{"document_bytes":16777216,"sheet_cells":100000,"rows_first":2000,"rows_last":500,"rows_between":2000,"halvings":0,"cell_chars":16384,"cell_head_chars":4096},"cells_cut":0,"cells_raw":0,"read":"whole","date_system":"1900"}

{"sheet":"Arbeitsblatt","index":0,"n_rows":18,"n_cols":13,"rows_kept":18,"cut":false,"hidden":true,"merged":[[17,1,21,14]]}
[]
[null,6,"x",6,"=",36,null,null,5,"x",8,"=",40]
[null,5,"x",6,"=",30,null,null,5,"x",1,"=",5]
[null,8,"x",6,"=",48,null,null,8,"x",4,"=",32]
[null,1,"x",1,"=",1,null,null,2,"x",6,"=",12]
[null,8,"x",8,"=",64,null,null,6,"x",7,"=",42]
[null,4,"x",9,"=",36,null,null,6,"x",6,"=",36]
[null,10,"x",10,"=",100,null,null,4,"x",4,"=",16]
[null,2,"x",10,"=",20,null,null,2,"x",5,"=",10]
[null,1,"x",4,"=",4,null,null,4,"x",2,"=",8]
[null,6,"x",8,"=",null,null,null,6,"x",2,"=",12]
[null,7,"x",8,"=",null,null,null,7,"x",2,"=",14]
[null,1,"x",4,"=",null,null,null,5,"x",3,"=",15]
[null,3,"x",10,"=",null,null,null,6,"x",7,"=",42]
[]
[]
[]
[null,{"$f":" IF(PRODUCT(F2:F14)*PRODUCT(M2:M14)=#REF!,#REF!,#REF!)","v":{"$error":"#REF!"}}]

{"sheet":"Multiplikation G400","index":1,"n_rows":26,"n_cols":26,"rows_kept":26,"cut":false,"hidden":false,"merged":[[0,1,0,5],[25,1,26,14],[1,1,5,14],[13,1,13,14],[14,1,14,14],[20,3,20,4],[21,3,21,4]]}
[null,"Multiplikation ganze Zahlen -400 bis 400"]
[null,{"$f":"'Quelle dynamisch'!B12","v":"Löse die Aufgaben!  Viel Glück und Erfolg beim Rechnen! "}]
[]
[]
[]
[]
[]
[null,{"$f":"'Quelle dynamisch'!A3","v":-14},"x",{"$f":"'Quelle dynamisch'!C3","v":3},"=",null,null,null,{"$f":"'Quelle dynamisch'!G3","v":-7},"x",{"$f":"'Quelle dynamisch'!I3","v":9},"="]
[null,{"$f":"'Quelle dynamisch'!A4","v":-17},"x",{"$f":"'Quelle dynamisch'!C4","v":-4},"=",null,null,null,{"$f":"'Quelle dynamisch'!G4","v":-6},"x",{"$f":"'Quelle dynamisch'!I4","v":-18},"="]
[null,{"$f":"'Quelle dynamisch'!A5","v":18},"x",{"$f":"'Quelle dynamisch'!C5","v":-18},"=",null,null,null,{"$f":"'Quelle dynamisch'!G5","v":14},"x",{"$f":"'Quelle dynamisch'!I5","v":-11},"="]
[null,{"$f":"'Quelle dynamisch'!A6","v":4},"x",{"$f":"'Quelle dynamisch'!C6","v":1},"=",null,null,null,{"$f":"'Quelle dynamisch'!G6","v":-5},"x",{"$f":"'Quelle dynamisch'!I6","v":-19},"="]
[null,{"$f":"'Quelle dynamisch'!A7","v":3},"x",{"$f":"'Quelle dynamisch'!C7","v":-4},"=",null,null,null,{"$f":"'Quelle dynamisch'!G7","v":14},"x",{"$f":"'Quelle dynamisch'!I7","v":5},"="]
[]
[null,{"$f":"IF(B23=B24,\"Herzlichen Glückwunsch!\",\"Leider nicht alles richtig :-(.\")","v":"Leider nicht alles richtig :-(."}]
[null,{"$f":"IF(B23=B24,\"Du hast es wieder mal geschafft :-)!\",\"Du kannst noch besser werden :-)!\")","v":"Du kannst noch besser werden :-)!"}]
[]
[]
[]
[]
[]
[null,"00:06:45"]
[null,{"$f":"'Quelle dynamisch'!A15","v":"00:06:45"}]
[null,{"$f":"PRODUCT(F8:F12)*PRODUCT(M8:M12)","v":0}]
[null,{"$f":"PRODUCT('Quelle dynamisch'!E3:E7)*PRODUCT('Quelle dynamisch'!K3:K7)","v":-3.094932073863168E+17}]
[null,{"$f":"ABS(B24-B23)","v":3.094932073863168E+17},null,null,null,null,null,null,null,null,null,null,null,null,null,null,null,null,null,null,null,null,null,null,null,0]
[null,"www.s-e-i.ch/Teaching/"]

{"sheet":"Quelle dynamisch","index":2,"n_rows":15,"n_cols":14,"rows_kept":15,"cut":false,"hidden":true,"merged":[]}
[]
[null,null,null,null,null,null,null,null,null,null,null,null,"Multiplikation"]
[{"$f":"ROUND(RAND()*19+1,0)*(-1)^ROUND(RAND(),0)","v":-14},"x",{"$f":"ROUND(RAND()*19+1,0)*(-1)^ROUND(RAND(),0)","v":3},"=",{"$f":"A3*C3","v":-42},null,{"$f":"ROUND(RAND()*19+1,0)*(-1)^ROUND(RAND(),0)","v":-7},"x",{"$f":"ROUND(RAND()*19+1,0)*(-1)^ROUND(RAND(),0)","v":9},"=",{"$f":"G3*I3","v":-63},null,{"$f":"E3-'Multiplikation G400'!F8","v":-42},{"$f":"K3-'Multiplikation G400'!M8","v":-63}]
[{"$f":"ROUND(RAND()*19+1,0)*(-1)^ROUND(RAND(),0)","v":-17},"x",-4,"=",{"$f":"A4*C4","v":68},null,{"$f":"ROUND(RAND()*19+1,0)*(-1)^ROUND(RAND(),0)","v":-6},"x",{"$f":"ROUND(RAND()*19+1,0)*(-1)^ROUND(RAND(),0)","v":-18},"=",108,null,{"$f":"E4-'Multiplikation G400'!F9","v":68},{"$f":"K4-'Multiplikation G400'!M9","v":108}]
[18,"x",-18,"=",-324,null,14,"x",-11,"=",-154,null,{"$f":"E5-'Multiplikation G400'!F10","v":-324},{"$f":"K5-'Multiplikation G400'!M10","v":-154}]
[4,"x",1,"=",4,null,-5,"x",-19,"=",95,null,{"$f":"E6-'Multiplikation G400'!F11","v":4},{"$f":"K6-'Multiplikation G400'!M11","v":95}]
[3,"x",-4,"=",-12,null,14,"x",5,"=",70,null,{"$f":"E7-'Multiplikation G400'!F12","v":-12},{"$f":"K7-'Multiplikation G400'!M12","v":70}]
[]
[]
[]
[null,"Herzlichen Glückwunsch!"]
[null,"Löse die Aufgaben!  Viel Glück und Erfolg beim Rechnen! "]
[]
["Max zeit"]
["00:06:45"]